Workbook

Sheet Result
R7: 0 | S7: No Grade
R8: 0.75 | S8: Grade C
R9: 0.85 | S9: Grade B
D10: Roll No | E10: : | F10: 112 | R10: 0.95 | S10: Grade A
D11: Class | E11: : | F11: =VLOOKUP($F$10,Database!$A$2:$J$21,5,0) -> 10th
D12: Student Name | E12: : | F12: =VLOOKUP($F$10,Database!$A$2:$J$21,2,0) -> Aditi Chauhan
D13: Father Name | E13: : | F13: =VLOOKUP($F$10,Database!$A$2:$J$21,3,0) -> Pradeep Chauhan
D14: DOB | E14: : | F14: =VLOOKUP($F$10,Database!$A$2:$J$21,4,0) -> 38993
F17: Subject | G17: Total Marks | H17: Passing Marks | I17: Obtained Marks | J17: Percentage | K17: Pass / Fails
F18: Hindi | G18: 100 | H18: 35 | I18: =VLOOKUP($F$10,Database!$A$1:$J$21,MATCH(Result!F18,Database!$A$1:$J$1,0),0) -> 47 | J18: =I18/G18 -> 0.47 | K18: =IF(I18<H18,"Fail","Pass") -> Pass
F19: English | G19: 100 | H19: 35 | I19: =VLOOKUP($F$10,Database!$A$1:$J$21,MATCH(Result!F19,Database!$A$1:$J$1,0),0) -> 76 | J19: =I19/G19 -> 0.76 | K19: =IF(I19<H19,"Fail","Pass") -> Pass
F20: Math | G20: 100 | H20: 35 | I20: =VLOOKUP($F$10,Database!$A$1:$J$21,MATCH(Result!F20,Database!$A$1:$J$1,0),0) -> 35 | J20: =I20/G20 -> 0.35 | K20: =IF(I20<H20,"Fail","Pass") -> Pass
F21: Science | G21: 100 | H21: 35 | I21: =VLOOKUP($F$10,Database!$A$1:$J$21,MATCH(Result!F21,Database!$A$1:$J$1,0),0) -> 55 | J21: =I21/G21 -> 0.55 | K21: =IF(I21<H21,"Fail","Pass") -> Pass
F22: Art | G22: 100 | H22: 35 | I22: =VLOOKUP($F$10,Database!$A$1:$J$21,MATCH(Result!F22,Database!$A$1:$J$1,0),0) -> 63 | J22: =I22/G22 -> 0.63 | K22: =IF(I22<H22,"Fail","Pass") -> Pass
F24: Final Result : | G24: =IF(K26>=50%,"Passed","Fail") -> Passed | J24: Total Marks | K24: =SUM(G18:G22) -> 500
F25: Grade : | G25: =LOOKUP(K26,R7:R10,S7:S10) -> No Grade | J25: Obtained Marks | K25: =SUM(I18:I22) -> 276
J26: Percentage | K26: =K25/K24 -> 0.552

Sheet Database
A1: Roll No | B1: Student Name | C1: Father Name | D1: DOB | E1: Class | F1: Hindi | G1: English | H1: Math | I1: Science | J1: Art
A2: 101 | B2: Aarav Sharma | C2: Rajesh Sharma | D2: 38423 | E2: 10th | F2: 45 | G2: 89 | H2: 46 | I2: 93 | J2: 72
A3: 102 | B3: Ananya Singh | C3: Mahendra Singh | D3: 38923 | E3: 10th | F3: 73 | G3: 65 | H3: 71 | I3: 29 | J3: 99
A4: 103 | B4: Rohan Verma | C4: Suresh Verma | D4: 38370 | E4: 10th | F4: 93 | G4: 89 | H4: 95 | I4: 36 | J4: 30
A5: 104 | B5: Priya Gupta | C5: Ramesh Gupta | D5: 39030 | E5: 10th | F5: 26 | G5: 26 | H5: 37 | I5: 86 | J5: 69
A6: 105 | B6: Aditya Mishra | C6: Dinesh Mishra | D6: 38502 | E6: 10th | F6: 87 | G6: 94 | H6: 34 | I6: 78 | J6: 76
A7: 106 | B7: Neha Yadav | C7: Kailash Yadav | D7: 38943 | E7: 10th | F7: 84 | G7: 63 | H7: 85 | I7: 34 | J7: 38
A8: 107 | B8: Rahul Kumar | C8: Mukesh Kumar | D8: 38405 | E8: 10th | F8: 91 | G8: 55 | H8: 28 | I8: 83 | J8: 66
A9: 108 | B9: Pooja Tiwari | C9: Ashok Tiwari | D9: 38977 | E9: 10th | F9: 46 | G9: 25 | H9: 60 | I9: 52 | J9: 59
A10: 109 | B10: Vivek Pandey | C10: Shyam Pandey | D10: 38691 | E10: 10th | F10: 68 | G10: 98 | H10: 69 | I10: 77 | J10: 49
A11: 110 | B11: Sneha Patel | C11: Rakesh Patel | D11: 38835 | E11: 10th | F11: 95 | G11: 58 | H11: 88 | I11: 47 | J11: 52
A12: 111 | B12: Karan Singh | C12: Virendra Singh | D12: 38514 | E12: 10th | F12: 95 | G12: 91 | H12: 53 | I12: 42 | J12: 72
A13: 112 | B13: Aditi Chauhan | C13: Pradeep Chauhan | D13: 38993 | E13: 10th | F13: 47 | G13: 76 | H13: 35 | I13: 55 | J13: 63
... A21: 120 | B21: Ritu Thakur | C21: Narendra Thakur | D21: 39080 | E21: 10th | F21: 99 | G21: 92 | H21: 53 | I21: 56 | J21: 48
